BEGIN:VCALENDAR
VERSION:2.0
PRODID:-//Syndicat des Industries de Madagascar - ECPv6.15.16//NONSGML v1.0//EN
CALSCALE:GREGORIAN
METHOD:PUBLISH
X-WR-CALNAME:Syndicat des Industries de Madagascar
X-ORIGINAL-URL:https://simmadagascar.mg
X-WR-CALDESC:Évènements pour Syndicat des Industries de Madagascar
REFRESH-INTERVAL;VALUE=DURATION:PT1H
X-Robots-Tag:noindex
X-PUBLISHED-TTL:PT1H
BEGIN:VTIMEZONE
TZID:Europe/Paris
BEGIN:DAYLIGHT
TZOFFSETFROM:+0100
TZOFFSETTO:+0200
TZNAME:CEST
DTSTART:20250330T010000
END:DAYLIGHT
BEGIN:STANDARD
TZOFFSETFROM:+0200
TZOFFSETTO:+0100
TZNAME:CET
DTSTART:20251026T010000
END:STANDARD
BEGIN:DAYLIGHT
TZOFFSETFROM:+0100
TZOFFSETTO:+0200
TZNAME:CEST
DTSTART:20260329T010000
END:DAYLIGHT
BEGIN:STANDARD
TZOFFSETFROM:+0200
TZOFFSETTO:+0100
TZNAME:CET
DTSTART:20261025T010000
END:STANDARD
BEGIN:DAYLIGHT
TZOFFSETFROM:+0100
TZOFFSETTO:+0200
TZNAME:CEST
DTSTART:20270328T010000
END:DAYLIGHT
BEGIN:STANDARD
TZOFFSETFROM:+0200
TZOFFSETTO:+0100
TZNAME:CET
DTSTART:20271031T010000
END:STANDARD
END:VTIMEZONE
BEGIN:VEVENT
DTSTART;TZID=Europe/Paris:20260421T000000
DTEND;TZID=Europe/Paris:20260421T235959
DTSTAMP:20260421T012406
CREATED:20260417T143633Z
LAST-MODIFIED:20260417T143635Z
UID:16997-1776729600-1776815999@simmadagascar.mg
SUMMARY:Projet UniPod Madagascar
DESCRIPTION:Concerné : Directrice Exécutive du SIM \n\n\n\n\n\n\nINSCRIPTION
URL:https://simmadagascar.mg/agenda/projet-unipod-madagascar/
LOCATION:visio ou présentiel
END:VEVENT
BEGIN:VEVENT
DTSTART;TZID=Europe/Paris:20260421T090000
DTEND;TZID=Europe/Paris:20260422T110000
DTSTAMP:20260421T012406
CREATED:20260417T143837Z
LAST-MODIFIED:20260417T143838Z
UID:17001-1776762000-1776855600@simmadagascar.mg
SUMMARY:Invitation à l'atelier sur les instruments de mise en œuvre de la ZLECAf
DESCRIPTION:Concerné : Directrice Exécutive du SIM \n\n\n\n\n\n\nInscription
URL:https://simmadagascar.mg/agenda/invitation-a-latelier-sur-les-instruments-de-mise-en-oeuvre-de-la-zlecaf/
LOCATION:Hotel du Louvres
END:VEVENT
END:VCALENDAR