BEGIN:VCALENDAR
VERSION:2.0
PRODID:-//Syndicat des Industries de Madagascar - ECPv6.15.16//NONSGML v1.0//EN
CALSCALE:GREGORIAN
METHOD:PUBLISH
X-WR-CALNAME:Syndicat des Industries de Madagascar
X-ORIGINAL-URL:https://simmadagascar.mg
X-WR-CALDESC:Évènements pour Syndicat des Industries de Madagascar
REFRESH-INTERVAL;VALUE=DURATION:PT1H
X-Robots-Tag:noindex
X-PUBLISHED-TTL:PT1H
BEGIN:VTIMEZONE
TZID:Europe/Paris
BEGIN:DAYLIGHT
TZOFFSETFROM:+0100
TZOFFSETTO:+0200
TZNAME:CEST
DTSTART:20250330T010000
END:DAYLIGHT
BEGIN:STANDARD
TZOFFSETFROM:+0200
TZOFFSETTO:+0100
TZNAME:CET
DTSTART:20251026T010000
END:STANDARD
BEGIN:DAYLIGHT
TZOFFSETFROM:+0100
TZOFFSETTO:+0200
TZNAME:CEST
DTSTART:20260329T010000
END:DAYLIGHT
BEGIN:STANDARD
TZOFFSETFROM:+0200
TZOFFSETTO:+0100
TZNAME:CET
DTSTART:20261025T010000
END:STANDARD
BEGIN:DAYLIGHT
TZOFFSETFROM:+0100
TZOFFSETTO:+0200
TZNAME:CEST
DTSTART:20270328T010000
END:DAYLIGHT
BEGIN:STANDARD
TZOFFSETFROM:+0200
TZOFFSETTO:+0100
TZNAME:CET
DTSTART:20271031T010000
END:STANDARD
END:VTIMEZONE
BEGIN:VEVENT
DTSTART;TZID=Europe/Paris:20260420T080000
DTEND;TZID=Europe/Paris:20260420T100000
DTSTAMP:20260420T022650
CREATED:20260417T143329Z
LAST-MODIFIED:20260417T143331Z
UID:16993-1776672000-1776679200@simmadagascar.mg
SUMMARY:Tournage ONUDI
DESCRIPTION:Concerné : Président du SIM \n\n\n\n\n\n\nInscription
URL:https://simmadagascar.mg/agenda/tournage-onudi/
LOCATION:Tour redland Ankorondrano
END:VEVENT
BEGIN:VEVENT
DTSTART;TZID=Europe/Paris:20260420T120000
DTEND;TZID=Europe/Paris:20260420T140000
DTSTAMP:20260420T022650
CREATED:20260417T143507Z
LAST-MODIFIED:20260417T143508Z
UID:16995-1776686400-1776693600@simmadagascar.mg
SUMMARY:Tournage ONUDI
DESCRIPTION:Concerné : Directrice Exécutive du SIM \n\n\n\n\n\n\nInscription
URL:https://simmadagascar.mg/agenda/tournage-onudi-2/
LOCATION:SIM Analakely
END:VEVENT
END:VCALENDAR